BEGIN:VCALENDAR
VERSION:2.0
PRODID:-//Region 7 Head Start Association - ECPv6.15.20//NONSGML v1.0//EN
CALSCALE:GREGORIAN
METHOD:PUBLISH
X-ORIGINAL-URL:https://www.r7hsa.com
X-WR-CALDESC:Events for Region 7 Head Start Association
REFRESH-INTERVAL;VALUE=DURATION:PT1H
X-Robots-Tag:noindex
X-PUBLISHED-TTL:PT1H
BEGIN:VTIMEZONE
TZID:America/Chicago
BEGIN:DAYLIGHT
TZOFFSETFROM:-0600
TZOFFSETTO:-0500
TZNAME:CDT
DTSTART:20230312T080000
END:DAYLIGHT
BEGIN:STANDARD
TZOFFSETFROM:-0500
TZOFFSETTO:-0600
TZNAME:CST
DTSTART:20231105T070000
END:STANDARD
BEGIN:DAYLIGHT
TZOFFSETFROM:-0600
TZOFFSETTO:-0500
TZNAME:CDT
DTSTART:20240310T080000
END:DAYLIGHT
BEGIN:STANDARD
TZOFFSETFROM:-0500
TZOFFSETTO:-0600
TZNAME:CST
DTSTART:20241103T070000
END:STANDARD
BEGIN:DAYLIGHT
TZOFFSETFROM:-0600
TZOFFSETTO:-0500
TZNAME:CDT
DTSTART:20250309T080000
END:DAYLIGHT
BEGIN:STANDARD
TZOFFSETFROM:-0500
TZOFFSETTO:-0600
TZNAME:CST
DTSTART:20251102T070000
END:STANDARD
END:VTIMEZONE
BEGIN:VEVENT
DTSTART;TZID=America/Chicago:20241008T130000
DTEND;TZID=America/Chicago:20241008T140000
DTSTAMP:20260423T032931
CREATED:20240823T151737Z
LAST-MODIFIED:20240823T151737Z
UID:2615-1728392400-1728396000@www.r7hsa.com
SUMMARY:Trends in Youth Substance Misuse and Sources for Prevention
DESCRIPTION:
URL:https://www.r7hsa.com/event/trends-in-youth-substance-misuse-and-sources-for-prevention/
CATEGORIES:State Association Event
END:VEVENT
BEGIN:VEVENT
DTSTART;TZID=America/Chicago:20241016T090000
DTEND;TZID=America/Chicago:20241016T110000
DTSTAMP:20260423T032931
CREATED:20240807T020349Z
LAST-MODIFIED:20240807T020349Z
UID:2509-1729069200-1729076400@www.r7hsa.com
SUMMARY:ERSEA Training with WIPFLI – THREE Part Series – October 2\, 16\, and 30.
DESCRIPTION:
URL:https://www.r7hsa.com/event/ersea-training-with-wipfli-three-part-series-october-2-16-and-30-2/
CATEGORIES:State Association Event
END:VEVENT
BEGIN:VEVENT
DTSTART;TZID=America/Chicago:20241016T110000
DTEND;TZID=America/Chicago:20241016T120000
DTSTAMP:20260423T032931
CREATED:20240807T020350Z
LAST-MODIFIED:20240807T020350Z
UID:2510-1729076400-1729080000@www.r7hsa.com
SUMMARY:Head Start ECHO
DESCRIPTION:
URL:https://www.r7hsa.com/event/head-start-echo-4/
CATEGORIES:State Association Event
END:VEVENT
BEGIN:VEVENT
DTSTART;TZID=America/Chicago:20241017T083000
DTEND;TZID=America/Chicago:20241017T123000
DTSTAMP:20260423T032931
CREATED:20240807T020350Z
LAST-MODIFIED:20240807T020350Z
UID:2511-1729153800-1729168200@www.r7hsa.com
SUMMARY:Active Shooter/De-escalation and Emergency Preparedness in ECE Settings
DESCRIPTION:
URL:https://www.r7hsa.com/event/active-shooter-de-escalation-and-emergency-preparedness-in-ece-settings/
CATEGORIES:State Association Event
END:VEVENT
BEGIN:VEVENT
DTSTART;TZID=America/Chicago:20241017T090000
DTEND;TZID=America/Chicago:20241017T150000
DTSTAMP:20260423T032931
CREATED:20240807T020350Z
LAST-MODIFIED:20240807T020350Z
UID:2512-1729155600-1729177200@www.r7hsa.com
SUMMARY:October State Meeting (APM) and Networks Meeting
DESCRIPTION:
URL:https://www.r7hsa.com/event/october-state-meeting-apm-and-networks-meeting/
CATEGORIES:State Association Event
END:VEVENT
BEGIN:VEVENT
DTSTART;TZID=America/Chicago:20241018T151500
DTEND;TZID=America/Chicago:20241018T164500
DTSTAMP:20260423T032931
CREATED:20240823T152022Z
LAST-MODIFIED:20240823T152022Z
UID:2616-1729264500-1729269900@www.r7hsa.com
SUMMARY:Strengthening Supports to Promote Positive Behaviors in Infant and Toddler Classrooms
DESCRIPTION:
URL:https://www.r7hsa.com/event/strengthening-supports-to-promote-positive-behaviors-in-infant-and-toddler-classrooms/
CATEGORIES:State Association Event
END:VEVENT
BEGIN:VEVENT
DTSTART;TZID=America/Chicago:20241021T100000
DTEND;TZID=America/Chicago:20241025T130000
DTSTAMP:20260423T032931
CREATED:20240813T180739Z
LAST-MODIFIED:20240815T175858Z
UID:2573-1729504800-1729861200@www.r7hsa.com
SUMMARY:2024 R7HSA Annual Head Start Caucus
DESCRIPTION:Monday\, October 21\, 2024\nPre-track Sessions • 10:00am-3:30pm\nPre-Track Session Fee: $89 fee per participant offered to registered Caucus attendees. \nFee includes a light lunch for attendees\, access to an online platform with session materials and a certificate of participation. \n• Embracing AI for Enhanced Leadership in Head Start Programs \n• Rallying for a Successful Leadership Journey \n• Practice Based Coaching \nTuesday\, October 22\, 2024\nCaucus Opening General Session\n9:00am — Caucus Welcome & Kick Off\nR7HSA OHS Regional/Federal Office Updates & Conversations \n3:30-4:00pm — Wrap Up “Sharing the Joy of Head Start — Rally Kickoff” \nWednesday\, October 23\, 2024\n9:00am — Welcome Back & Sharing the Joy of coming together with peers and colleagues! \n9:30am-3:30pm — Two-Part full day Session: Journey Toward Inclusive Excellence (DEIB) \nPresenter: Jennifer Miller\, Principle Consultant\, JSM Diversity \n3:30-4:30pm — Session Wrap Up \nThursday\, October 25\, 2024\n8:30–9:45am — State Breakout Meetings \n10:00am- 12:00pm: Policy Forum/Legislative Update — Tommy Sheridan\, NHSA (tentatively confirmed) \n12:00-12:30pm: Caucus Wrap Up: Preparing to Share the Joy back home! \n  \nView the event agenda HERE \nRegister for the event HERE \nBook your guest room HERE
URL:https://www.r7hsa.com/event/2024-r7hsa-annual-head-start-caucus-2/
LOCATION:Hilton KCI\, 8801 NW 112th St.\, Kansas City\, MO\, 64153\, United States
ATTACH;FMTTYPE=image/png:https://www.r7hsa.com/wp-content/uploads/2024/06/2024-Caucus-copy.png
END:VEVENT
BEGIN:VEVENT
DTSTART;TZID=America/Chicago:20241030T090000
DTEND;TZID=America/Chicago:20241030T110000
DTSTAMP:20260423T032931
CREATED:20240807T020350Z
LAST-MODIFIED:20240807T021601Z
UID:2513-1730278800-1730286000@www.r7hsa.com
SUMMARY:ERSEA Training with WIPFLI – THREE Part Series – October 2\, 16\, and 30.
DESCRIPTION:
URL:https://www.r7hsa.com/event/ersea-training-with-wipfli-three-part-series-october-2-16-and-30-3/
CATEGORIES:State Association Event
END:VEVENT
BEGIN:VEVENT
DTSTART;TZID=America/Chicago:20241105T000000
DTEND;TZID=America/Chicago:20241105T000000
DTSTAMP:20260423T032931
CREATED:20240807T020517Z
LAST-MODIFIED:20240807T020517Z
UID:2514-1730764800-1730764800@www.r7hsa.com
SUMMARY:MO Head Start Program Directors & Partners Discussion
DESCRIPTION:
URL:https://www.r7hsa.com/event/mo-head-start-program-directors-partners-discussion-3/
CATEGORIES:State Association Event
END:VEVENT
BEGIN:VEVENT
DTSTART;TZID=America/Chicago:20241106T130000
DTEND;TZID=America/Chicago:20241106T140000
DTSTAMP:20260423T032931
CREATED:20240807T020518Z
LAST-MODIFIED:20240807T020518Z
UID:2515-1730898000-1730901600@www.r7hsa.com
SUMMARY:Human Resources Network
DESCRIPTION:
URL:https://www.r7hsa.com/event/human-resources-network-3/
CATEGORIES:State Association Event
END:VEVENT
BEGIN:VEVENT
DTSTART;TZID=America/Chicago:20241106T140000
DTEND;TZID=America/Chicago:20241106T150000
DTSTAMP:20260423T032931
CREATED:20240807T020518Z
LAST-MODIFIED:20240807T020518Z
UID:2516-1730901600-1730905200@www.r7hsa.com
SUMMARY:Fiscal Network
DESCRIPTION:
URL:https://www.r7hsa.com/event/fiscal-network-2/
CATEGORIES:State Association Event
END:VEVENT
BEGIN:VEVENT
DTSTART;TZID=America/Chicago:20241108T083000
DTEND;TZID=America/Chicago:20241108T160000
DTSTAMP:20260423T032931
CREATED:20240807T020518Z
LAST-MODIFIED:20240807T021341Z
UID:2517-1731054600-1731081600@www.r7hsa.com
SUMMARY:IHSA Fall Conference and Annual Meeting
DESCRIPTION:
URL:https://www.r7hsa.com/event/ihsa-fall-conference-and-annual-meeting/
CATEGORIES:State Association Event
END:VEVENT
BEGIN:VEVENT
DTSTART;TZID=America/Chicago:20241108T100000
DTEND;TZID=America/Chicago:20241108T110000
DTSTAMP:20260423T032931
CREATED:20240823T152219Z
LAST-MODIFIED:20240823T152219Z
UID:2617-1731060000-1731063600@www.r7hsa.com
SUMMARY:Coffee & Learn with Cherie Sage\, Safe Kids KS
DESCRIPTION:
URL:https://www.r7hsa.com/event/coffee-learn-with-cherie-sage-safe-kids-ks/
CATEGORIES:State Association Event
END:VEVENT
BEGIN:VEVENT
DTSTART;TZID=America/Chicago:20241108T140000
DTEND;TZID=America/Chicago:20241108T150000
DTSTAMP:20260423T032931
CREATED:20240807T020518Z
LAST-MODIFIED:20240807T020518Z
UID:2518-1731074400-1731078000@www.r7hsa.com
SUMMARY:KHSA Board Meeting
DESCRIPTION:
URL:https://www.r7hsa.com/event/khsa-board-meeting-2/
CATEGORIES:State Association Event
END:VEVENT
BEGIN:VEVENT
DTSTART;TZID=America/Chicago:20241112T103000
DTEND;TZID=America/Chicago:20241112T113000
DTSTAMP:20260423T032931
CREATED:20240807T020622Z
LAST-MODIFIED:20240807T020622Z
UID:2520-1731407400-1731411000@www.r7hsa.com
SUMMARY:ERSEA Network
DESCRIPTION:
URL:https://www.r7hsa.com/event/ersea-network/
CATEGORIES:State Association Event
END:VEVENT
BEGIN:VEVENT
DTSTART;TZID=America/Chicago:20241112T130000
DTEND;TZID=America/Chicago:20241112T150000
DTSTAMP:20260423T032931
CREATED:20240807T020623Z
LAST-MODIFIED:20240807T020623Z
UID:2521-1731416400-1731423600@www.r7hsa.com
SUMMARY:Parent Health Literacy Training
DESCRIPTION:
URL:https://www.r7hsa.com/event/parent-health-literacy-training-4/
CATEGORIES:State Association Event
END:VEVENT
BEGIN:VEVENT
DTSTART;TZID=America/Chicago:20241112T140000
DTEND;TZID=America/Chicago:20241112T150000
DTSTAMP:20260423T032931
CREATED:20240807T020623Z
LAST-MODIFIED:20240807T020623Z
UID:2522-1731420000-1731423600@www.r7hsa.com
SUMMARY:Health Managers Network
DESCRIPTION:
URL:https://www.r7hsa.com/event/health-managers-network/
CATEGORIES:State Association Event
END:VEVENT
BEGIN:VEVENT
DTSTART;TZID=America/Chicago:20241113T083000
DTEND;TZID=America/Chicago:20241114T160000
DTSTAMP:20260423T032931
CREATED:20241015T175525Z
LAST-MODIFIED:20241015T180053Z
UID:2658-1731486600-1731600000@www.r7hsa.com
SUMMARY:Disabilities Institute
DESCRIPTION:Disabilities Institute\nTHESE MATERIALS WERE DEVELOPED FOR OHS/REGION 7 TRAINING AND TECHNICAL ASSISTANCE NETWORK UNDER CONTRACT NO. 140D0420C0085 BY ICF. \n\n\n\n\nREGISTER NOW! \n\n\n\n\nA coordinated approach to disability services is essential for ensuring the full and active participation of children with disabilities and their families in all aspects of Head Start programs. This institute will: \n• explore strategies for establishing and maintaining partnership agreements that foster productive\, collaborative relationships\, \n• discuss how multidisciplinary teams can engage in an ongoing decision-making process to select\, implement and evaluate individualized practices tailored to a child’s unique learning needs\, forming the foundation of an effective coordinated approach. \nParticipants will delve into key questions\, including: Who are the partners? What are their roles? How do they collaborate successfully? \n\n\n\n\nWHEN: NOVEMBER 13TH\, 8:30-4:30 \nNOVEMBER 14TH 8:30-4:00 \nWHERE: HILTON KC AIRPORT – KANSAS CITY\, MO \nWHO: DISABILITIES COORDINATORS\, DIRECTORS\, AND OTHER LEADERS RESPONSIBLE FOR COORDINATING SERVICES FOR CHILDREN WITH DISABILITIES \nHOSTED BY: REGION VII HEAD START TTA \nFACILITATED BY: HEAD START NATIONAL CENTER ON EARLY CHILDHOOD DEVELOPMENT\, TEACHING\, & LEARNING  \n\n\n\n\nRegistration is limited! \nRegistration link: Institute Registration – Register here \nHotel room block link: Hilton KC Airport – Book now \nDOWNLOAD THE EVENT FLYER
URL:https://www.r7hsa.com/event/disabilities-institute/
ATTACH;FMTTYPE=image/png:https://www.r7hsa.com/wp-content/uploads/2024/10/2024-Disabilities-Institute-copy.png
END:VEVENT
BEGIN:VEVENT
DTSTART;TZID=America/Chicago:20241113T090000
DTEND;TZID=America/Chicago:20241113T160000
DTSTAMP:20260423T032931
CREATED:20240807T020623Z
LAST-MODIFIED:20240807T021241Z
UID:2523-1731488400-1731513600@www.r7hsa.com
SUMMARY:Real Colors – Promote Staff Wellness\, Retention and Satisfaction!
DESCRIPTION:
URL:https://www.r7hsa.com/event/real-colors-promote-staff-wellness-retention-and-satisfaction/
CATEGORIES:State Association Event
END:VEVENT
BEGIN:VEVENT
DTSTART;TZID=America/Chicago:20241114T130000
DTEND;TZID=America/Chicago:20241114T150000
DTSTAMP:20260423T032931
CREATED:20240807T020624Z
LAST-MODIFIED:20240807T020624Z
UID:2524-1731589200-1731596400@www.r7hsa.com
SUMMARY:KPATA: Parent Health Literacy Training
DESCRIPTION:
URL:https://www.r7hsa.com/event/kpata-parent-health-literacy-training/
CATEGORIES:State Association Event
END:VEVENT
BEGIN:VEVENT
DTSTART;TZID=America/Chicago:20241115T151500
DTEND;TZID=America/Chicago:20241115T164500
DTSTAMP:20260423T032931
CREATED:20240823T152409Z
LAST-MODIFIED:20240823T152409Z
UID:2618-1731683700-1731689100@www.r7hsa.com
SUMMARY:Strengthening Supports to Promote Positive Behaviors in Infant and Toddler Classrooms
DESCRIPTION:
URL:https://www.r7hsa.com/event/strengthening-supports-to-promote-positive-behaviors-in-infant-and-toddler-classrooms-2/
CATEGORIES:State Association Event
END:VEVENT
BEGIN:VEVENT
DTSTART;TZID=America/Chicago:20241120T090000
DTEND;TZID=America/Chicago:20241120T110000
DTSTAMP:20260423T032931
CREATED:20240823T152543Z
LAST-MODIFIED:20240823T152543Z
UID:2619-1732093200-1732100400@www.r7hsa.com
SUMMARY:Resiliency Practices for Professionals Serving Others Workshop with Pam Hamilton
DESCRIPTION:
URL:https://www.r7hsa.com/event/resiliency-practices-for-professionals-serving-others-workshop-with-pam-hamilton/
CATEGORIES:State Association Event
END:VEVENT
BEGIN:VEVENT
DTSTART;TZID=America/Chicago:20241120T093000
DTEND;TZID=America/Chicago:20241120T113000
DTSTAMP:20260423T032931
CREATED:20240905T160206Z
LAST-MODIFIED:20240905T165241Z
UID:2636-1732095000-1732102200@www.r7hsa.com
SUMMARY:Budgeting for Quality Virtual Series
DESCRIPTION:The Region VII TTA System welcomes the National Center on Program Management and Fiscal Operations and the Head Start Regional Office in a series focused on budgeting in response to quality enhancements outlined in the Revised Head Start Program Performance Standards. Directors\, Fiscal Officers\, and other program leadership are encouraged to attend.  Session details and registration information to come!
URL:https://www.r7hsa.com/event/budgeting-for-quality-virtual-series-3/
END:VEVENT
BEGIN:VEVENT
DTSTART;TZID=America/Chicago:20241120T110000
DTEND;TZID=America/Chicago:20241120T120000
DTSTAMP:20260423T032931
CREATED:20240807T020635Z
LAST-MODIFIED:20240807T020635Z
UID:2525-1732100400-1732104000@www.r7hsa.com
SUMMARY:Head Start ECHO
DESCRIPTION:
URL:https://www.r7hsa.com/event/head-start-echo-5/
CATEGORIES:State Association Event
END:VEVENT
BEGIN:VEVENT
DTSTART;TZID=America/Chicago:20241121T090000
DTEND;TZID=America/Chicago:20241121T100000
DTSTAMP:20260423T032931
CREATED:20240807T020636Z
LAST-MODIFIED:20240807T020636Z
UID:2526-1732179600-1732183200@www.r7hsa.com
SUMMARY:Head Start Director Network
DESCRIPTION:
URL:https://www.r7hsa.com/event/head-start-director-network-3/
CATEGORIES:State Association Event
END:VEVENT
BEGIN:VEVENT
DTSTART;TZID=America/Chicago:20241203T000000
DTEND;TZID=America/Chicago:20241203T000000
DTSTAMP:20260423T032931
CREATED:20240807T020636Z
LAST-MODIFIED:20240807T020636Z
UID:2527-1733184000-1733184000@www.r7hsa.com
SUMMARY:MO Head Start Program Directors & Partners Discussion
DESCRIPTION:
URL:https://www.r7hsa.com/event/mo-head-start-program-directors-partners-discussion-4/
CATEGORIES:State Association Event
END:VEVENT
BEGIN:VEVENT
DTSTART;TZID=America/Chicago:20241203T150000
DTEND;TZID=America/Chicago:20241203T163000
DTSTAMP:20260423T032931
CREATED:20240823T152733Z
LAST-MODIFIED:20240823T152733Z
UID:2620-1733238000-1733243400@www.r7hsa.com
SUMMARY:Staying Safe During Home Visits Training with ICP
DESCRIPTION:
URL:https://www.r7hsa.com/event/staying-safe-during-home-visits-training-with-icp/
CATEGORIES:State Association Event
END:VEVENT
BEGIN:VEVENT
DTSTART;TZID=America/Chicago:20241205T090000
DTEND;TZID=America/Chicago:20241205T110000
DTSTAMP:20260423T032931
CREATED:20241010T135855Z
LAST-MODIFIED:20241010T135855Z
UID:2654-1733389200-1733396400@www.r7hsa.com
SUMMARY:Head Start Program Performance: Employee Engagement and Performance Management
DESCRIPTION:Head Start Program Performance: Employee Engagement and Performance Management\nThursday December 5\, 2024 9-11 a.m. \n  \nAn organization’s work is never done when it comes to employee engagement and performance management. Knowing how to adequately support employees in their role is vital to maintain organization success\, as well as being able to identify\, document\, and remediate instances when employees are not performing to their expected potential. \n  \nRegister now for our final session of the year and gain insights on: \n• Onboarding \n• Assessing staffing needs and new hire strengths \n• What to do when a new hire is not the right fit for the position \n• Managing improvement plans \n• Program policies and procedures \n• Head Start Program Performance Standards (HSPPS) \n  \nAbout the presenter Rachel Gast\, Bukaty Companies’ Director of HR Consulting attended the University of Kansas. \nRachel has worked in Human Resources for nearly 20 years\, with experience in Employee Coaching & Performance Management\, Payroll\, Workers Compensation\, Benefits\, Policy & Procedures\, and Recruiting. Bukaty Companies is one of Kansas City’s top-ranked employee benefits and insurance brokerage firms. From its early beginnings 30 years ago as a two-person office\, the business has grown to nearly 200 employees with three office locations representing thousands of clients across the country. Bukaty Companies’ core values – Service\, Knowledge\, Integrity\, and Teamwork – remain the operational focus and illustrate our commitment to provide outstanding client service \n  \nhttps://register.gotowebinar.com/register/6405625443411407190
URL:https://www.r7hsa.com/event/head-start-program-performance-employee-engagement-and-performance-management/
ATTACH;FMTTYPE=image/png:https://www.r7hsa.com/wp-content/uploads/2024/10/Head-Start-Program-Performance-copy.png
END:VEVENT
BEGIN:VEVENT
DTSTART;TZID=America/Chicago:20241213T151500
DTEND;TZID=America/Chicago:20241213T164500
DTSTAMP:20260423T032931
CREATED:20240823T152908Z
LAST-MODIFIED:20240823T152908Z
UID:2621-1734102900-1734108300@www.r7hsa.com
SUMMARY:Strengthening Supports to Promote Positive Behaviors in Infant and Toddler Classrooms
DESCRIPTION:
URL:https://www.r7hsa.com/event/strengthening-supports-to-promote-positive-behaviors-in-infant-and-toddler-classrooms-3/
CATEGORIES:State Association Event
END:VEVENT
BEGIN:VEVENT
DTSTART;VALUE=DATE:20241216
DTEND;VALUE=DATE:20241220
DTSTAMP:20260423T032931
CREATED:20240815T191049Z
LAST-MODIFIED:20240815T191049Z
UID:2597-1734307200-1734652799@www.r7hsa.com
SUMMARY:NHSA Parent and Family Engagement Conference
DESCRIPTION:
URL:https://www.r7hsa.com/event/nhsa-parent-and-family-engagement-conference/
CATEGORIES:National Association Event
END:VEVENT
END:VCALENDAR