BEGIN:VCALENDAR
VERSION:2.0
PRODID:-//Region 7 Head Start Association - ECPv6.15.20//NONSGML v1.0//EN
CALSCALE:GREGORIAN
METHOD:PUBLISH
X-ORIGINAL-URL:https://www.r7hsa.com
X-WR-CALDESC:Events for Region 7 Head Start Association
REFRESH-INTERVAL;VALUE=DURATION:PT1H
X-Robots-Tag:noindex
X-PUBLISHED-TTL:PT1H
BEGIN:VTIMEZONE
TZID:America/Chicago
BEGIN:DAYLIGHT
TZOFFSETFROM:-0600
TZOFFSETTO:-0500
TZNAME:CDT
DTSTART:20220313T080000
END:DAYLIGHT
BEGIN:STANDARD
TZOFFSETFROM:-0500
TZOFFSETTO:-0600
TZNAME:CST
DTSTART:20221106T070000
END:STANDARD
BEGIN:DAYLIGHT
TZOFFSETFROM:-0600
TZOFFSETTO:-0500
TZNAME:CDT
DTSTART:20230312T080000
END:DAYLIGHT
BEGIN:STANDARD
TZOFFSETFROM:-0500
TZOFFSETTO:-0600
TZNAME:CST
DTSTART:20231105T070000
END:STANDARD
BEGIN:DAYLIGHT
TZOFFSETFROM:-0600
TZOFFSETTO:-0500
TZNAME:CDT
DTSTART:20240310T080000
END:DAYLIGHT
BEGIN:STANDARD
TZOFFSETFROM:-0500
TZOFFSETTO:-0600
TZNAME:CST
DTSTART:20241103T070000
END:STANDARD
BEGIN:DAYLIGHT
TZOFFSETFROM:-0600
TZOFFSETTO:-0500
TZNAME:CDT
DTSTART:20250309T080000
END:DAYLIGHT
BEGIN:STANDARD
TZOFFSETFROM:-0500
TZOFFSETTO:-0600
TZNAME:CST
DTSTART:20251102T070000
END:STANDARD
END:VTIMEZONE
BEGIN:VEVENT
DTSTART;TZID=America/Chicago:20230418T090000
DTEND;TZID=America/Chicago:20230502T130000
DTSTAMP:20260420T032658
CREATED:20221210T150002Z
LAST-MODIFIED:20221210T150225Z
UID:1970-1681808400-1683032400@www.r7hsa.com
SUMMARY:MAP (Management Acceleration Program) Training
DESCRIPTION:April 17\, 20\, 25\, 27 & May 2\, 2023 (Virtual sessions are held 9am-1:00pm) \nThe Region VII Management Acceleration Program (MAP) is an expansive training program that provides Head Start/Early Head Start Directors and Managers a solid foundation of Head Start principles and management practices. Participants begin a professional development journey that takes them through a continuum of learning of all Head Start key areas required for improved success at the recipient level. \nWho is MAP designed for? \nMAP is designed for Head Start management and administrative staff. Those who may benefit from the training include: Directors\, Management Staff\, as well as Executive Directors and other leadership (including Fiscal and Human Resources staff) who support the Head Start program. Participants will receive a high-level overview of components of Head Start and gain a deeper understanding of how integration and coordination across the program are essential to provide quality services for children and families. With limited registration\, priority will be given to those in their current position for two years or less.  \nLEARN MORE HERE…
URL:https://www.r7hsa.com/event/map-management-acceleration-program-training/
END:VEVENT
BEGIN:VEVENT
DTSTART;TZID=America/Chicago:20230612T090000
DTEND;TZID=America/Chicago:20230615T130000
DTSTAMP:20260420T032658
CREATED:20230201T213540Z
LAST-MODIFIED:20230607T142826Z
UID:1994-1686560400-1686834000@www.r7hsa.com
SUMMARY:R7HSA ANNUAL CONFERENCE
DESCRIPTION:  \n \n \n \n  \n  \n  \nThe Sheraton room block has Sold Out. If you are planning on attending the conference and have not secured a hotel reservation\, search for hotel availability via our trusted partner aRes Travel. \n\naRes Travel is a third-party travel planner. Rates\, deposits\, and cancellation policies may vary and are the responsibility of the guest. Questions on hotel policies or payments made on aRes website should be directed to the aRes Reservation Center or to the hotel directly. \n 
URL:https://www.r7hsa.com/event/r7hsa-annual-conference/
LOCATION:Sheraton at the Overland Park\, KS Convention Center\, 6100 College Boulevard\, Overland Park\, KS\, 66211\, United States
ATTACH;FMTTYPE=image/png:https://www.r7hsa.com/wp-content/uploads/2016/06/2023-BFDuck-copy.png
ORGANIZER;CN="Donna Veatch":MAILTO:Donna@R7HSA.com
END:VEVENT
BEGIN:VEVENT
DTSTART;TZID=America/Chicago:20231024T090000
DTEND;TZID=America/Chicago:20231026T120000
DTSTAMP:20260420T032659
CREATED:20230808T164511Z
LAST-MODIFIED:20230919T195815Z
UID:2100-1698138000-1698321600@www.r7hsa.com
SUMMARY:2023 R7HSA Head Start Caucus
DESCRIPTION: \n\nHello Head Start / Early Head Start Leadership! \nThank you for your interest in attending the\nR7HSA  Annual Head Start Caucus\nOctober 24-26\, 2023\nMonday\, 10/23 Pre-Track options available\n \nREGISTER HERE\n\n ________________________________________________\n\n \nSee the Preliminary agenda HERE.\nAgenda content will be updated as pending details are finalized.\nBeginning and ending times of the event will not change.\n ________________________________________________\n  \nRegistration Caucus Fee: $519 per participant\n(Fee includes lunch on Tuesday & access to the after-hours Reception)\nSeparate $95.00 Fee for Pre-Track Sessions\n(Fee includes lunch on Monday\,10.23.23 & Sharefile Access)\n________________________________________________\n \nReserve your guest room HERE.\n(Breakfast is provided daily to in-house hotel guests)\n\n ________________________________________________\n\n\n\n \n\n\nNote: CDC Guidelines for large group gatherings will be followed at the time of the event.\n\n\n\n\n\n\n\n\n \n \n \n \n\n\n\n\n\n 
URL:https://www.r7hsa.com/event/2023-r7hsa-head-start-caucus/
LOCATION:Stoney Creek Hotel and Conference Center\, Independence\, MO
END:VEVENT
BEGIN:VEVENT
DTSTART;TZID=America/Chicago:20240122T090000
DTEND;TZID=America/Chicago:20240125T170000
DTSTAMP:20260420T032659
CREATED:20231117T161738Z
LAST-MODIFIED:20231221T185513Z
UID:2154-1705914000-1706202000@www.r7hsa.com
SUMMARY:Quality of Caregiver-Child Interactions for Infants & Toddlers (QCIT) Observation Certification Training (QCT)
DESCRIPTION:Registration is open for the next QCIT Training if you could pass this on to the recipients. \n  \nRegistration is open for the next Region VII Quality of Caregiver-Child Interactions for Infants & Toddlers (QCIT) Observation Certification Training (QCT)\, January 22-25\, 2024\, (see attached for details). The MO Head Start Association (MHSA) is hosting this virtual event with trainers from the Region VII Training & Technical Assistance System that include Katie Ingham\, Pam Kruger\, and Bethanie Grass. \n  \nThe deadline to register is December 7th. Please feel welcome to contact Tina Bernskoetter with any questions regarding registration: Tina Bernskoetter with any questions regarding registration Tina@MoHeadStart.org or by calling 573-665-7007.
URL:https://www.r7hsa.com/event/quality-of-caregiver-child-interactions-for-infants-toddlers-qcit-observation-certification-training-qct-2/
ATTACH;FMTTYPE=image/png:https://www.r7hsa.com/wp-content/uploads/2023/11/QCIT-copy.png
END:VEVENT
BEGIN:VEVENT
DTSTART;TZID=America/Chicago:20240228T080000
DTEND;TZID=America/Chicago:20240228T170000
DTSTAMP:20260420T032659
CREATED:20231221T174453Z
LAST-MODIFIED:20240627T191326Z
UID:2181-1709107200-1709139600@www.r7hsa.com
SUMMARY:Recruiting\, Screening & Retaining Webinar
DESCRIPTION:Region VII Program Benefit\nComplimentary Training Opportunities\noffered at no cost by Bukaty Companies\, \na R7HSA Premiere Sponsor.\nCheck out the 2024 schedule of benefit sessions \nbeing offered at no charge to Region VII Head Start Programs!
URL:https://www.r7hsa.com/event/2024-better-your-business-series-sponsored-by-bukaty-companies-a-r7hsa-premiere-sponsor-2/
ATTACH;FMTTYPE=image/png:https://www.r7hsa.com/wp-content/uploads/2023/12/Recruiting-Screening-Retaining-Webinar.png
END:VEVENT
BEGIN:VEVENT
DTSTART;TZID=America/Chicago:20240307T090000
DTEND;TZID=America/Chicago:20240307T113000
DTSTAMP:20260420T032659
CREATED:20240216T150127Z
LAST-MODIFIED:20240216T150127Z
UID:2222-1709802000-1709811000@www.r7hsa.com
SUMMARY:Site Manager Rally
DESCRIPTION:Region VII TTA is pleased to announce an opportunity for Site Managers! The Rally will be March 7\, 2024 from 9:00-11:30 and will be conducted via Zoom. Region VII TTA Early Childhood Specialists will facilitate a discussion around related Head Start/EHS information and resources. Participants will be encouraged to ask questions and will have time to network with colleagues in similar positions from around the region to build a support system. Discussion will focus on trending topics related to “real life” situations that participants are facing in their roles. \n  \nThis event is for all staff who serve in the capacity of site manager. \n  \nHere is the link to register:  https://app.smartsheetgov.com/b/form/18a421b224954b3590cc7c239a6bea06
URL:https://www.r7hsa.com/event/site-manager-rally/
ATTACH;FMTTYPE=image/png:https://www.r7hsa.com/wp-content/uploads/2024/02/Site-Manager-Rally.png
END:VEVENT
BEGIN:VEVENT
DTSTART;TZID=America/Chicago:20240321T090000
DTEND;TZID=America/Chicago:20240321T113000
DTSTAMP:20260420T032659
CREATED:20240216T170446Z
LAST-MODIFIED:20240216T220949Z
UID:2234-1711011600-1711020600@www.r7hsa.com
SUMMARY:Challenging Behaviors and Beyond
DESCRIPTION:Join peers and colleagues for an open forum designed to give Region VII programs a platform to share and discuss personal experiences in working with and supporting children with challenging behaviors that escalate to an extreme level while striving to provide a loving\, safe and healthy learning environment for everyone. This session is designed as a facilitated conversation which includes content and data collected using a pre-session survey (see link below).\n\n\n\nSession Objectives: \n\nQualify and quantify the number and types of escalated behavior child-related incidents that are occurring across programs\nExplore environmental and societal causes that may have a direct impact on the increased number of situations where children are exhibiting challenging behaviors and beyond\nShare resources and strategies that serve to support programs in providing a safe and inclusive environment for all children\nIdentify and share resources to support the wellness and safety of all staff who are delivering critical services to children and families on a daily basis\n\nThis session will include an overview of “real time” classroom situations where children were displaying challenging behavior that escalated to an extreme level. \nRegistration fee: $79.00 \nSession Facilitators* include:  \nDonna Veatch has dedicated her entire career\, serving in various roles in the field of Early Childhood Education (ECE) including twelve years as a Head Start classroom teacher.  Beyond the classroom\, she served as the Education Coordinator and Operations Manager for a local program. She holds a BA degree in Early Childhood Development from Ottawa University\, a Graduate level certifications in Executive Leadership\, Executive Leadership Coaching through Avila University. UCLA Fellow Class of 2004. She is the current Director of Executive Services for Region VII Head Start Association. \n  \nJanet Humphryes is co-founder\, principal coach/consultant for Dynamic Coaching Systems LLC with 47 years-experience (27 in Head Start\, 22 years in classrooms) developing federal\, Tribal\, state and private early education systems in organizations. With an ECE M.A.\, a B.A. in Behavioral Science and a Montessori International teaching credential\, her career focus has been on leveraging human behavior science to maximize human potential. \n  \nKaren Surprenant has spent her career in Head Start in both direct services as a Head Start Director and in the national Training and Technical Assistance network as a Program Management and Governance Specialist. Karen is an experienced FA2 reviewer. She has provided training on these topics through various means including webinars\, conferences\, and institutes. As a Head Start director for over 20 years\, Karen used her management skills to expand enrollment\, acquire facilities\, oversee multiple funding streams\, and develop systems to monitor and enhance program services. Karen has a master’s degree in educational leadership from Bridgewater State University and a bachelor’s degree in elementary education and psychology from UMass Dartmouth. \n*all facilitators have Head Start/Early Head Start classroom experience \nHelp us customize content to fit YOUR needs.  \nComplete the survey at the link below: \nhttps://lp.constantcontactpages.com/sv/IoR7zHp \n  \nREGISTER HERE
URL:https://www.r7hsa.com/event/challenging-behaviors-and-beyond/
ATTACH;FMTTYPE=image/png:https://www.r7hsa.com/wp-content/uploads/2024/02/Challenging-Behaviors-and-Beyond.png
END:VEVENT
BEGIN:VEVENT
DTSTART;TZID=America/Chicago:20240423T090000
DTEND;TZID=America/Chicago:20240507T130000
DTSTAMP:20260420T032659
CREATED:20231221T144303Z
LAST-MODIFIED:20240216T151414Z
UID:2165-1713862800-1715086800@www.r7hsa.com
SUMMARY:Managment Acceleration Program (MAP) Training
DESCRIPTION: \n2024 Region VII Management Acceleration Program (MAP) \nVirtual Training Series\nThe Region VII Management Acceleration Program (MAP) is a training program that provides Head Start/Early Head Start Directors and Managers with a solid foundation of Head Start principles and management practices in each of the Head Start content areas. The purpose of MAP is to introduce the Management Systems Wheel and support Head Start Leaders in understanding their new role and how it integrates within the system as a whole. Additionally\, it’s a great opportunity to network with professionals in similar roles and take insights back to their leadership team to enhance program implementation. \nMAP is designed for Head Start management and administrative staff. Those who may benefit from the training include: Directors\, Management Staff\, as well as Executive Directors and other leadership (including Fiscal and Human Resources staff) who support the Head Start program. Participants will receive a high-level overview of components of Head Start and gain a deeper understanding of how integration and coordination across the program are essential to provide quality services for children and families. With limited registration\, priority will be given to those in their current position for two years or less. \nApril 23\, April 25\, April 30\, May 2 & May 7\, 2024. \nAll sessions begin at 9:00 am and conclude at 1:00pm. \nWhere: Zoom event hosted by Region VII Head Start Association. \nFee: $819 (including electronic access to training materials distributed prior to the training). \nCLICK HERE to view the MAP Agenda \nREGISTER NOW \n 
URL:https://www.r7hsa.com/event/2024-region-vii-managment-acceleration-program-map-virtual-training-series/
ATTACH;FMTTYPE=image/png:https://www.r7hsa.com/wp-content/uploads/2023/12/MAP.png
END:VEVENT
BEGIN:VEVENT
DTSTART;TZID=America/Chicago:20240515T100000
DTEND;TZID=America/Chicago:20240516T163000
DTSTAMP:20260420T032659
CREATED:20240404T193715Z
LAST-MODIFIED:20240404T200618Z
UID:2256-1715767200-1715877000@www.r7hsa.com
SUMMARY:HOME BASED INSTITUTE
DESCRIPTION:  \n\nREGISTER HERE
URL:https://www.r7hsa.com/event/home-based-institute/
ATTACH;FMTTYPE=image/png:https://www.r7hsa.com/wp-content/uploads/2024/04/Home-Based.png
END:VEVENT
BEGIN:VEVENT
DTSTART;TZID=America/Chicago:20240603T090000
DTEND;TZID=America/Chicago:20240606T120000
DTSTAMP:20260420T032659
CREATED:20240119T011605Z
LAST-MODIFIED:20240509T184151Z
UID:2197-1717405200-1717675200@www.r7hsa.com
SUMMARY:R7HSA Annual Conference
DESCRIPTION:Where the “Heartland and \nHeart Work” intersect!\nREGISTER TODAY!\nParticipant Registration Link\nJune 4—6\, 2024 (6/3 reserved for pre-track sessions)\nSheraton Hotel at the Overland Park\, KS Convention Center \n  \nPlan to join peers and colleagues as we come together and experience an interactive collaborative week of professional development opportunities with sessions designed to promote innovation\, develop capacity for shared/inclusive leadership\, build strong and resilient teams\, while recognizing and elevating everyone’s human potential. \nCLICK HERE to view the event agenda. \n\nAnnouncing:\n \nThe Overland Park Sheraton Hotel guest room block for the upcoming June 2024 Conference has sold out! You can search for other area hotels here: https://tinyurl.com/2jwwx898 Note: Hotels secured through the link are considered independent outside the R7HSA contracted room block and not obligated to honor the government per diem rate.\n \n\n\nConference registration remains OPEN! We have plenty of space for you and your team to register for the conference today. Don’t miss out on the 65+ learning opportunities and dynamic guest speakers including Khari Garvin\, the Director of the Office of Head Start (OHS) at the Administration for Children and Families. See you there!\n\n  \n 
URL:https://www.r7hsa.com/event/2024-r7hsa-annual-conference/
LOCATION:Sheraton at the Overland Park\, KS Convention Center\, 6100 College Boulevard\, Overland Park\, KS\, 66211\, United States
ATTACH;FMTTYPE=image/png:https://www.r7hsa.com/wp-content/uploads/2024/01/R7HSA-Annual-Conference.png
END:VEVENT
BEGIN:VEVENT
DTSTART;TZID=America/Chicago:20240820T090000
DTEND;TZID=America/Chicago:20240820T120000
DTSTAMP:20260420T032659
CREATED:20240807T015809Z
LAST-MODIFIED:20240807T022215Z
UID:2489-1724144400-1724155200@www.r7hsa.com
SUMMARY:Head Start Assistant Teacher Bootcamp
DESCRIPTION:
URL:https://www.r7hsa.com/event/head-start-assistant-teacher-bootcamp/
CATEGORIES:State Association Event
END:VEVENT
BEGIN:VEVENT
DTSTART;TZID=America/Chicago:20240821T090000
DTEND;TZID=America/Chicago:20240821T120000
DTSTAMP:20260420T032659
CREATED:20240807T015809Z
LAST-MODIFIED:20240807T015809Z
UID:2490-1724230800-1724241600@www.r7hsa.com
SUMMARY:Head Start Assistant Teacher Bootcamp
DESCRIPTION:
URL:https://www.r7hsa.com/event/head-start-assistant-teacher-bootcamp-2/
CATEGORIES:State Association Event
END:VEVENT
BEGIN:VEVENT
DTSTART;TZID=America/Chicago:20240822T090000
DTEND;TZID=America/Chicago:20240822T100000
DTSTAMP:20260420T032659
CREATED:20240807T015810Z
LAST-MODIFIED:20240807T015810Z
UID:2492-1724317200-1724320800@www.r7hsa.com
SUMMARY:Head Start Director Network
DESCRIPTION:
URL:https://www.r7hsa.com/event/head-start-director-network/
CATEGORIES:State Association Event
END:VEVENT
BEGIN:VEVENT
DTSTART;TZID=America/Chicago:20240903T000000
DTEND;TZID=America/Chicago:20240903T000000
DTSTAMP:20260420T032659
CREATED:20240807T015810Z
LAST-MODIFIED:20240807T015810Z
UID:2493-1725321600-1725321600@www.r7hsa.com
SUMMARY:MO Head Start Program Directors & Partners Discussion
DESCRIPTION:
URL:https://www.r7hsa.com/event/mo-head-start-program-directors-partners-discussion/
CATEGORIES:State Association Event
END:VEVENT
BEGIN:VEVENT
DTSTART;TZID=America/Chicago:20240904T130000
DTEND;TZID=America/Chicago:20240904T140000
DTSTAMP:20260420T032659
CREATED:20240807T015812Z
LAST-MODIFIED:20240807T015812Z
UID:2494-1725454800-1725458400@www.r7hsa.com
SUMMARY:Human Resources Network
DESCRIPTION:
URL:https://www.r7hsa.com/event/human-resources-network/
CATEGORIES:State Association Event
END:VEVENT
BEGIN:VEVENT
DTSTART;TZID=America/Chicago:20240904T140000
DTEND;TZID=America/Chicago:20240904T150000
DTSTAMP:20260420T032659
CREATED:20240807T015812Z
LAST-MODIFIED:20240807T015812Z
UID:2495-1725458400-1725462000@www.r7hsa.com
SUMMARY:Fiscal Network
DESCRIPTION:
URL:https://www.r7hsa.com/event/fiscal-network/
CATEGORIES:State Association Event
END:VEVENT
BEGIN:VEVENT
DTSTART;TZID=America/Chicago:20240910T090000
DTEND;TZID=America/Chicago:20240910T120000
DTSTAMP:20260420T032659
CREATED:20240807T015812Z
LAST-MODIFIED:20240807T015812Z
UID:2496-1725958800-1725969600@www.r7hsa.com
SUMMARY:IHSA September Program Director Networking
DESCRIPTION:
URL:https://www.r7hsa.com/event/ihsa-september-program-director-networking/
CATEGORIES:State Association Event
END:VEVENT
BEGIN:VEVENT
DTSTART;TZID=America/Chicago:20240910T130000
DTEND;TZID=America/Chicago:20240910T140000
DTSTAMP:20260420T032659
CREATED:20240815T185003Z
LAST-MODIFIED:20240815T185102Z
UID:2580-1725973200-1725976800@www.r7hsa.com
SUMMARY:R7HSA 60th Anniversary Committee
DESCRIPTION:
URL:https://www.r7hsa.com/event/r7hsa-60th-anniversary-committee/
LOCATION:Zoom
END:VEVENT
BEGIN:VEVENT
DTSTART;TZID=America/Chicago:20240910T130000
DTEND;TZID=America/Chicago:20240910T150000
DTSTAMP:20260420T032659
CREATED:20240807T015812Z
LAST-MODIFIED:20240807T015812Z
UID:2497-1725973200-1725980400@www.r7hsa.com
SUMMARY:Parent Health Literacy Training
DESCRIPTION:
URL:https://www.r7hsa.com/event/parent-health-literacy-training-3/
CATEGORIES:State Association Event
END:VEVENT
BEGIN:VEVENT
DTSTART;TZID=America/Chicago:20240911T090000
DTEND;TZID=America/Chicago:20240911T120000
DTSTAMP:20260420T032659
CREATED:20240807T015813Z
LAST-MODIFIED:20240807T015813Z
UID:2498-1726045200-1726056000@www.r7hsa.com
SUMMARY:IHSA Family Services Networking
DESCRIPTION:
URL:https://www.r7hsa.com/event/ihsa-family-services-networking/
CATEGORIES:State Association Event
END:VEVENT
BEGIN:VEVENT
DTSTART;TZID=America/Chicago:20240912T090000
DTEND;TZID=America/Chicago:20240912T090000
DTSTAMP:20260420T032659
CREATED:20240807T015851Z
LAST-MODIFIED:20240807T015851Z
UID:2501-1726131600-1726131600@www.r7hsa.com
SUMMARY:MHSA Board Meeting
DESCRIPTION:
URL:https://www.r7hsa.com/event/mhsa-board-meeting/
CATEGORIES:State Association Event
END:VEVENT
BEGIN:VEVENT
DTSTART;TZID=America/Chicago:20240912T090000
DTEND;TZID=America/Chicago:20240912T120000
DTSTAMP:20260420T032659
CREATED:20240807T015850Z
LAST-MODIFIED:20240807T015850Z
UID:2499-1726131600-1726142400@www.r7hsa.com
SUMMARY:Head Start Transportation Compliance and Requirements
DESCRIPTION:
URL:https://www.r7hsa.com/event/head-start-transportation-compliance-and-requirements/
CATEGORIES:State Association Event
END:VEVENT
BEGIN:VEVENT
DTSTART;TZID=America/Chicago:20240912T140000
DTEND;TZID=America/Chicago:20240912T150000
DTSTAMP:20260420T032659
CREATED:20240807T015851Z
LAST-MODIFIED:20240807T015851Z
UID:2500-1726149600-1726153200@www.r7hsa.com
SUMMARY:KHSA Board Meeting
DESCRIPTION:
URL:https://www.r7hsa.com/event/khsa-board-meeting/
CATEGORIES:State Association Event
END:VEVENT
BEGIN:VEVENT
DTSTART;TZID=America/Chicago:20240918T110000
DTEND;TZID=America/Chicago:20240918T120000
DTSTAMP:20260420T032659
CREATED:20240807T015851Z
LAST-MODIFIED:20240807T015851Z
UID:2502-1726657200-1726660800@www.r7hsa.com
SUMMARY:Head Start ECHO
DESCRIPTION:
URL:https://www.r7hsa.com/event/head-start-echo-3/
CATEGORIES:State Association Event
END:VEVENT
BEGIN:VEVENT
DTSTART;TZID=America/Chicago:20240919T090000
DTEND;TZID=America/Chicago:20240919T100000
DTSTAMP:20260420T032659
CREATED:20240815T185310Z
LAST-MODIFIED:20240815T185310Z
UID:2583-1726736400-1726740000@www.r7hsa.com
SUMMARY:R7HSA Professional Development Committee
DESCRIPTION:
URL:https://www.r7hsa.com/event/r7hsa-professional-development-committee/
LOCATION:Zoom
END:VEVENT
BEGIN:VEVENT
DTSTART;TZID=America/Chicago:20240919T103000
DTEND;TZID=America/Chicago:20240919T113000
DTSTAMP:20260420T032659
CREATED:20240815T185513Z
LAST-MODIFIED:20240815T185513Z
UID:2586-1726741800-1726745400@www.r7hsa.com
SUMMARY:R7HSA Advocacy/Sponsorship Committee
DESCRIPTION:
URL:https://www.r7hsa.com/event/r7hsa-advocacy-sponsorship-committee/
LOCATION:Zoom
END:VEVENT
BEGIN:VEVENT
DTSTART;TZID=America/Chicago:20240919T150000
DTEND;TZID=America/Chicago:20240919T170000
DTSTAMP:20260420T032659
CREATED:20240823T151000Z
LAST-MODIFIED:20240823T151000Z
UID:2612-1726758000-1726765200@www.r7hsa.com
SUMMARY:Developmentally Appropriate Practice\, Infants and Toddlers
DESCRIPTION:
URL:https://www.r7hsa.com/event/developmentally-appropriate-practice-infants-and-toddlers/
CATEGORIES:State Association Event
END:VEVENT
BEGIN:VEVENT
DTSTART;VALUE=DATE:20240923
DTEND;VALUE=DATE:20240927
DTSTAMP:20260420T032659
CREATED:20240815T190920Z
LAST-MODIFIED:20240815T190920Z
UID:2595-1727049600-1727395199@www.r7hsa.com
SUMMARY:NHSA Fall Leadership Conference
DESCRIPTION:
URL:https://www.r7hsa.com/event/nhsa-fall-leadership-conference/
CATEGORIES:National Association Event
END:VEVENT
BEGIN:VEVENT
DTSTART;TZID=America/Chicago:20240927T080000
DTEND;TZID=America/Chicago:20240928T130000
DTSTAMP:20260420T032659
CREATED:20240808T173512Z
LAST-MODIFIED:20240808T173512Z
UID:2564-1727424000-1727528400@www.r7hsa.com
SUMMARY:UNK Community Early Childhood Conference
DESCRIPTION:
URL:https://www.r7hsa.com/event/unk-community-early-childhood-conference/
CATEGORIES:State Association Event
END:VEVENT
BEGIN:VEVENT
DTSTART;TZID=America/Chicago:20240927T080000
DTEND;TZID=America/Chicago:20240928T170000
DTSTAMP:20260420T032659
CREATED:20240823T150615Z
LAST-MODIFIED:20240823T150615Z
UID:2611-1727424000-1727542800@www.r7hsa.com
SUMMARY:Parent Leadership Conference 2024
DESCRIPTION:
URL:https://www.r7hsa.com/event/parent-leadership-conference-2024/
CATEGORIES:State Association Event
END:VEVENT
END:VCALENDAR